BEGIN:VCALENDAR
VERSION:2.0
PRODID:-//jEvents 2.0 for Joomla//EN
CALSCALE:GREGORIAN
METHOD:PUBLISH
BEGIN:VEVENT
UID:68b50c85a06e52bd2459e27d28720708
CATEGORIES:Termine
CREATED:20180123T115136
SUMMARY:Friedenslichtaktion
DESCRIPTION;ENCODING=QUOTED-PRINTABLE:
DTSTAMP:20260423T095923Z
DTSTART:20181223T140000Z
DTEND:20181223T210000Z
SEQUENCE:0
TRANSP:OPAQUE
END:VEVENT
END:VCALENDAR