BEGIN:VCALENDAR
VERSION:2.0
PRODID:-//jEvents 2.0 for Joomla//EN
CALSCALE:GREGORIAN
METHOD:PUBLISH
BEGIN:VEVENT
UID:df0cf30af955447c8a84120dff39b950
CATEGORIES:Termine
CREATED:20141201T135935
SUMMARY:Mühlviertler KO. Bewerb
LOCATION:Feuerwehr Erdmannsdorf
DESCRIPTION;ENCODING=QUOTED-PRINTABLE:
DTSTAMP:20260423T121325Z
DTSTART;VALUE=DATE:20150523
DTEND;VALUE=DATE:20150524
SEQUENCE:0
TRANSP:OPAQUE
END:VEVENT
END:VCALENDAR