BEGIN:VCALENDAR
VERSION:2.0
PRODID:-//jEvents 2.0 for Joomla//EN
CALSCALE:GREGORIAN
METHOD:PUBLISH
BEGIN:VEVENT
UID:66701034e6cc16762ff7bc912f3ae373
CATEGORIES:Termine
CREATED:20180123T113626
SUMMARY:Gruppenkommandantenübung (Matthias L.)
DESCRIPTION;ENCODING=QUOTED-PRINTABLE:
DTSTAMP:20260422T004835Z
DTSTART:20180326T170000Z
DTEND:20180326T200000Z
SEQUENCE:0
TRANSP:OPAQUE
END:VEVENT
END:VCALENDAR