BEGIN:VCALENDAR
VERSION:2.0
PRODID:-//jEvents 2.0 for Joomla//EN
CALSCALE:GREGORIAN
METHOD:PUBLISH
BEGIN:VEVENT
UID:126f671e8efcee18b38559d2ceb762eb
CATEGORIES:Termine
CREATED:20180123T113538
SUMMARY:Monatsübung (Michael G.)
DESCRIPTION;ENCODING=QUOTED-PRINTABLE:
DTSTAMP:20260422T005221Z
DTSTART:20180226T180000Z
DTEND:20180226T210000Z
SEQUENCE:0
TRANSP:OPAQUE
END:VEVENT
END:VCALENDAR