BEGIN:VCALENDAR
VERSION:2.0
PRODID:-//jEvents 2.0 for Joomla//EN
CALSCALE:GREGORIAN
METHOD:PUBLISH
BEGIN:VEVENT
UID:04fad0567f9526208fd9d472df57555f
CATEGORIES:Termine
CREATED:20180123T113441
SUMMARY:Spiele-Rockaroas im FF-Haus
DESCRIPTION;ENCODING=QUOTED-PRINTABLE:<p>Die FF Erdmannsdorf lädt zu einer Spielerockaroas am 3.Februar um 16.00 
 Uhr im FF-Haus ein.<br />Für Speis und Trank ist gesorgt!<br /><br />Es wir
 d gebeten, Spiele und Karten mitzubringen (Schnapskarten, Brettspiele, UNO 
 Karten etc.).</p><p>Auf euer Kommen freut sich die FF Erdmannsdorf!</p>
DTSTAMP:20260422T005221Z
DTSTART:20180203T150000Z
DTEND:20180203T210000Z
SEQUENCE:0
TRANSP:OPAQUE
END:VEVENT
END:VCALENDAR