BEGIN:VCALENDAR
VERSION:2.0
PRODID:-//jEvents 2.0 for Joomla//EN
CALSCALE:GREGORIAN
METHOD:PUBLISH
BEGIN:VEVENT
UID:3c50cd2c7737dfabe085a6293d77e2de
CATEGORIES:Termine
CREATED:20180123T095107
SUMMARY:Monatsübung: Atemschutz (Gernot R.)
DESCRIPTION;ENCODING=QUOTED-PRINTABLE:
DTSTAMP:20260420T131033Z
DTSTART:20180129T180000Z
DTEND:20180129T210000Z
SEQUENCE:0
TRANSP:OPAQUE
END:VEVENT
END:VCALENDAR