BEGIN:VCALENDAR
VERSION:2.0
PRODID:-//jEvents 2.0 for Joomla//EN
CALSCALE:GREGORIAN
METHOD:PUBLISH
BEGIN:VEVENT
UID:7e8b0c9cbe1271ae2c6b2cb077c95d60
CATEGORIES:Termine
CREATED:20141223T144249
SUMMARY:Monatsübung
DESCRIPTION;ENCODING=QUOTED-PRINTABLE:
DTSTAMP:20260423T114417Z
DTSTART:20150427T170000Z
DTEND:20150427T190000Z
SEQUENCE:0
TRANSP:OPAQUE
END:VEVENT
END:VCALENDAR